BEGIN:VCALENDAR
VERSION:2.0
PRODID:-//K&auml;rwa Kraftshof - ECPv6.15.20//NONSGML v1.0//EN
CALSCALE:GREGORIAN
METHOD:PUBLISH
X-ORIGINAL-URL:https://xn--krwa-kraftshof-5hb.de
X-WR-CALDESC:Veranstaltungen für K&auml;rwa Kraftshof
REFRESH-INTERVAL;VALUE=DURATION:PT1H
X-Robots-Tag:noindex
X-PUBLISHED-TTL:PT1H
BEGIN:VTIMEZONE
TZID:UTC
BEGIN:STANDARD
TZOFFSETFROM:+0000
TZOFFSETTO:+0000
TZNAME:UTC
DTSTART:20230101T000000
END:STANDARD
END:VTIMEZONE
BEGIN:VTIMEZONE
TZID:Europe/Helsinki
BEGIN:DAYLIGHT
TZOFFSETFROM:+0200
TZOFFSETTO:+0300
TZNAME:EEST
DTSTART:20230326T010000
END:DAYLIGHT
BEGIN:STANDARD
TZOFFSETFROM:+0300
TZOFFSETTO:+0200
TZNAME:EET
DTSTART:20231029T010000
END:STANDARD
BEGIN:DAYLIGHT
TZOFFSETFROM:+0200
TZOFFSETTO:+0300
TZNAME:EEST
DTSTART:20240331T010000
END:DAYLIGHT
BEGIN:STANDARD
TZOFFSETFROM:+0300
TZOFFSETTO:+0200
TZNAME:EET
DTSTART:20241027T010000
END:STANDARD
BEGIN:DAYLIGHT
TZOFFSETFROM:+0200
TZOFFSETTO:+0300
TZNAME:EEST
DTSTART:20250330T010000
END:DAYLIGHT
BEGIN:STANDARD
TZOFFSETFROM:+0300
TZOFFSETTO:+0200
TZNAME:EET
DTSTART:20251026T010000
END:STANDARD
END:VTIMEZONE
BEGIN:VEVENT
DTSTART;TZID=UTC:20240916T103000
DTEND;TZID=UTC:20240916T140000
DTSTAMP:20260424T021118
CREATED:20240814T132803Z
LAST-MODIFIED:20240818T124212Z
UID:57-1726482600-1726495200@xn--krwa-kraftshof-5hb.de
SUMMARY:Kärwa Frühschoppen
DESCRIPTION:unser alljährlicher Kärwa Frühschoppen in neuem Glanz. \nWir möchten unsere Unternehmen im Ort näher zusammenbringen und starten daher die erste Kraftshofer Firmenolympiade 2024. \nGewinne mit deinem Team ein Weißwurstfrühstück für dein Team!\nEin Staffellauf über drei Etappen für euch zum Ziel. Die einzige Teilnahmebedingung ist: ihr Unternehmen oder sie als Inhaber*in / Geschäftsführende leben in Kraftshof! \nEuer Staffelteam sollte aus 4 Mitarbeitenden bestehen\, die die lockeren Aufgaben bewältigen werden. Eine Altersbeschränkung gibt es hier nicht. \nGroße Verlosung\nwie jedes Jahr am Montag\, so auch in diesem Jahr! Nur haben wir die Anzahl um das mehr als fünffache erhöht. Seid gespannt insbesondere auf die drei Hauptgewinne! Lose gibt es ausschließlich nur im Rahmen des Frühschoppens. Die Verlosung der Hauptgewinne erfolgt unmittelbar nach \n  \nmeldet Euch jetzt an \n  \nMusik\nEs spielt „Franken-Mix“
URL:https://xn--krwa-kraftshof-5hb.de/event/kaerwa-fruehshoppen/
LOCATION:Kärwa Platz Kraftshof\, Spielplatz Schiestlstr.\, Kraftshof\, Bayern\, 90427\, Deutschland
END:VEVENT
BEGIN:VEVENT
DTSTART;TZID=Europe/Helsinki:20240916T160000
DTEND;TZID=Europe/Helsinki:20240916T190000
DTSTAMP:20260424T021118
CREATED:20240815T174345Z
LAST-MODIFIED:20240815T174340Z
UID:72-1726502400-1726513200@xn--krwa-kraftshof-5hb.de
SUMMARY:Kraftshofer Kärwa Familiennachmittag 2024
DESCRIPTION:Kärwa war und ist schon immer für die Familie. Unser Wirt und unsere Aussteller unterstützen dies durch besondere Angebote auf dem Kärwa-Platz. \n 
URL:https://xn--krwa-kraftshof-5hb.de/event/kraftshofer-kaerwa-familiennachmittag-2024/
LOCATION:Kärwa Platz Kraftshof\, Spielplatz Schiestlstr.\, Kraftshof\, Bayern\, 90427\, Deutschland
END:VEVENT
BEGIN:VEVENT
DTSTART;TZID=Europe/Helsinki:20240916T170000
DTEND;TZID=Europe/Helsinki:20240916T223000
DTSTAMP:20260424T021118
CREATED:20240815T173227Z
LAST-MODIFIED:20240815T173227Z
UID:66-1726506000-1726525800@xn--krwa-kraftshof-5hb.de
SUMMARY:Betzen austanzen 2024
DESCRIPTION:Der Höhepunkt unserer Kärwa. Die kleinen und großen Kärwburschen tanzen wie jedes Jahr den Betzen aus. \nDen beiden  Gewinner winkt dieses Jahr etwas besonderes. Es wird nach der Kärwa wieder ein traditionelles Betzen essen geben. Daher ziehen wir nach dem Ausstanzen nicht mehr zum jeweiligen Gewinner\, sondern wieder zurück ins Zelt und zelebrieren den Gewinn. \nMusik\nEs spielt „Franken-Mix“
URL:https://xn--krwa-kraftshof-5hb.de/event/betzen-austanzen-2024/
LOCATION:Kärwa Platz Kraftshof\, Spielplatz Schiestlstr.\, Kraftshof\, Bayern\, 90427\, Deutschland
END:VEVENT
BEGIN:VEVENT
DTSTART;TZID=Europe/Helsinki:20240916T223000
DTEND;TZID=Europe/Helsinki:20240916T233000
DTSTAMP:20260424T021118
CREATED:20240815T173537Z
LAST-MODIFIED:20240815T173537Z
UID:68-1726525800-1726529400@xn--krwa-kraftshof-5hb.de
SUMMARY:Kärwa Beerdigung 2024
DESCRIPTION:Das Ende ist nah. Die Beerdigung zeigt uns wieder einmal\, was alles auf der diesjährigen Kraftshofer Kirchweih alles passiert ist. Im Kleinen wie im Großen. Ob der Stangenbruch\, oder die Liebesgeschichte. Es kommt hier alles auf den Tisch. \n  \nMusik\nEs spielt „Franken-Mix“ \n 
URL:https://xn--krwa-kraftshof-5hb.de/event/kaerwa-beerdigung-2024/
LOCATION:Kärwa Platz Kraftshof\, Spielplatz Schiestlstr.\, Kraftshof\, Bayern\, 90427\, Deutschland
END:VEVENT
END:VCALENDAR