BEGIN:VCALENDAR
VERSION:2.0
PRODID:-//K&auml;rwa Kraftshof - ECPv6.15.20//NONSGML v1.0//EN
CALSCALE:GREGORIAN
METHOD:PUBLISH
X-WR-CALNAME:K&auml;rwa Kraftshof
X-ORIGINAL-URL:https://xn--krwa-kraftshof-5hb.de
X-WR-CALDESC:Veranstaltungen für K&auml;rwa Kraftshof
REFRESH-INTERVAL;VALUE=DURATION:PT1H
X-Robots-Tag:noindex
X-PUBLISHED-TTL:PT1H
BEGIN:VTIMEZONE
TZID:Europe/Helsinki
BEGIN:DAYLIGHT
TZOFFSETFROM:+0200
TZOFFSETTO:+0300
TZNAME:EEST
DTSTART:20240331T010000
END:DAYLIGHT
BEGIN:STANDARD
TZOFFSETFROM:+0300
TZOFFSETTO:+0200
TZNAME:EET
DTSTART:20241027T010000
END:STANDARD
BEGIN:DAYLIGHT
TZOFFSETFROM:+0200
TZOFFSETTO:+0300
TZNAME:EEST
DTSTART:20250330T010000
END:DAYLIGHT
BEGIN:STANDARD
TZOFFSETFROM:+0300
TZOFFSETTO:+0200
TZNAME:EET
DTSTART:20251026T010000
END:STANDARD
BEGIN:DAYLIGHT
TZOFFSETFROM:+0200
TZOFFSETTO:+0300
TZNAME:EEST
DTSTART:20260329T010000
END:DAYLIGHT
BEGIN:STANDARD
TZOFFSETFROM:+0300
TZOFFSETTO:+0200
TZNAME:EET
DTSTART:20261025T010000
END:STANDARD
END:VTIMEZONE
BEGIN:VEVENT
DTSTART;TZID=Europe/Helsinki:20250430T180000
DTEND;TZID=Europe/Helsinki:20250501T030000
DTSTAMP:20260423T143542
CREATED:20240918T105446Z
LAST-MODIFIED:20240918T105446Z
UID:262-1746036000-1746068400@xn--krwa-kraftshof-5hb.de
SUMMARY:Tanz in den Mai - Betzen essen der kleinen Kärwa Boum
DESCRIPTION:Wir feiern in den Mai und dann gibt es auch noch das Betzen essen als neues Highlight zusammen mit dem Betzen Gewinner Max\, den Kärwa Boum\, Freunden\, Helfern und Gönnern unser Kraftshofer Kärwa. \nDie Details folgen hier noch! \n \nJetzt schon vormerken!
URL:https://xn--krwa-kraftshof-5hb.de/event/tanz-in-den-mai-betzen-essen-der-kleinen-kaerwa-boum/
LOCATION:Kärwa Platz Kraftshof\, Spielplatz Schiestlstr.\, Kraftshof\, Bayern\, 90427\, Deutschland
END:VEVENT
END:VCALENDAR