BEGIN:VCALENDAR
VERSION:2.0
PRODID:-//K&auml;rwa Kraftshof - ECPv6.15.20//NONSGML v1.0//EN
CALSCALE:GREGORIAN
METHOD:PUBLISH
X-ORIGINAL-URL:https://xn--krwa-kraftshof-5hb.de
X-WR-CALDESC:Veranstaltungen für K&auml;rwa Kraftshof
REFRESH-INTERVAL;VALUE=DURATION:PT1H
X-Robots-Tag:noindex
X-PUBLISHED-TTL:PT1H
BEGIN:VTIMEZONE
TZID:Europe/Helsinki
BEGIN:DAYLIGHT
TZOFFSETFROM:+0200
TZOFFSETTO:+0300
TZNAME:EEST
DTSTART:20240331T010000
END:DAYLIGHT
BEGIN:STANDARD
TZOFFSETFROM:+0300
TZOFFSETTO:+0200
TZNAME:EET
DTSTART:20241027T010000
END:STANDARD
BEGIN:DAYLIGHT
TZOFFSETFROM:+0200
TZOFFSETTO:+0300
TZNAME:EEST
DTSTART:20250330T010000
END:DAYLIGHT
BEGIN:STANDARD
TZOFFSETFROM:+0300
TZOFFSETTO:+0200
TZNAME:EET
DTSTART:20251026T010000
END:STANDARD
BEGIN:DAYLIGHT
TZOFFSETFROM:+0200
TZOFFSETTO:+0300
TZNAME:EEST
DTSTART:20260329T010000
END:DAYLIGHT
BEGIN:STANDARD
TZOFFSETFROM:+0300
TZOFFSETTO:+0200
TZNAME:EET
DTSTART:20261025T010000
END:STANDARD
END:VTIMEZONE
BEGIN:VEVENT
DTSTART;TZID=Europe/Helsinki:20250614T173000
DTEND;TZID=Europe/Helsinki:20250614T235900
DTSTAMP:20260421T234554
CREATED:20250530T142149Z
LAST-MODIFIED:20250530T142149Z
UID:334-1749922200-1749945540@xn--krwa-kraftshof-5hb.de
SUMMARY:Sonnenwendfeier 2025 - Ski-Club Knoblauchsland
DESCRIPTION:Der Ski-Club feiert und die „alte Post Kraftshof“ bewirtet wieder! Auf ein wieder wunderschönes Fest am Kirchweihplatz in Kraftshof. Kind und Kegel sind willkommen\, denn die Hüpfburg und ganz viele weitere Attraktionen warten schon.
URL:https://xn--krwa-kraftshof-5hb.de/event/sonnenwendfeier-2025-ski-club-knoblauchsland/
LOCATION:Kärwa Platz Kraftshof\, Spielplatz Schiestlstr.\, Kraftshof\, Bayern\, 90427\, Deutschland
END:VEVENT
END:VCALENDAR