BEGIN:VCALENDAR
VERSION:2.0
PRODID:-//K&auml;rwa Kraftshof - ECPv6.15.20//NONSGML v1.0//EN
CALSCALE:GREGORIAN
METHOD:PUBLISH
X-ORIGINAL-URL:https://xn--krwa-kraftshof-5hb.de
X-WR-CALDESC:Veranstaltungen für K&auml;rwa Kraftshof
REFRESH-INTERVAL;VALUE=DURATION:PT1H
X-Robots-Tag:noindex
X-PUBLISHED-TTL:PT1H
BEGIN:VTIMEZONE
TZID:Europe/Helsinki
BEGIN:DAYLIGHT
TZOFFSETFROM:+0200
TZOFFSETTO:+0300
TZNAME:EEST
DTSTART:20240331T010000
END:DAYLIGHT
BEGIN:STANDARD
TZOFFSETFROM:+0300
TZOFFSETTO:+0200
TZNAME:EET
DTSTART:20241027T010000
END:STANDARD
BEGIN:DAYLIGHT
TZOFFSETFROM:+0200
TZOFFSETTO:+0300
TZNAME:EEST
DTSTART:20250330T010000
END:DAYLIGHT
BEGIN:STANDARD
TZOFFSETFROM:+0300
TZOFFSETTO:+0200
TZNAME:EET
DTSTART:20251026T010000
END:STANDARD
BEGIN:DAYLIGHT
TZOFFSETFROM:+0200
TZOFFSETTO:+0300
TZNAME:EEST
DTSTART:20260329T010000
END:DAYLIGHT
BEGIN:STANDARD
TZOFFSETFROM:+0300
TZOFFSETTO:+0200
TZNAME:EET
DTSTART:20261025T010000
END:STANDARD
END:VTIMEZONE
BEGIN:VEVENT
DTSTART;TZID=Europe/Helsinki:20250919T160000
DTEND;TZID=Europe/Helsinki:20250922T220000
DTSTAMP:20260421T171410
CREATED:20250324T171525Z
LAST-MODIFIED:20250324T171656Z
UID:322-1758297600-1758578400@xn--krwa-kraftshof-5hb.de
SUMMARY:Kirchweih Kraftshof 2025
DESCRIPTION:Die Kirchweih in Kraftshof ist jedes Jahr die letzte Kirchweih im Nürnberger Norden. Mit einer gemütlichen Atmosphäre rund um unseren Kärwa-Platz und unserer Kirche ist es der ideale Ort für das traditionelle Kirchweih-Fest und den alljährlichen Kärwa-Ausklang. \nFreut euch schon jetzt. Es gibt einige Neuigkeiten\, die unsere Kärwa noch besser machen werden. Ein erster wichtiger Schritt\, der uns richtig freut ist die Zusage von Nadja und Thomas Bösl mit dem Team der Alten Post die Rolle des Festwirtes zu übernehmen! Danke!.
URL:https://xn--krwa-kraftshof-5hb.de/event/kirchweih-kraftshof-2025/
LOCATION:Kärwa Platz Kraftshof\, Spielplatz Schiestlstr.\, Kraftshof\, Bayern\, 90427\, Deutschland
END:VEVENT
BEGIN:VEVENT
DTSTART;TZID=Europe/Helsinki:20250921T140000
DTEND;TZID=Europe/Helsinki:20250921T170000
DTSTAMP:20260421T171410
CREATED:20250722T122859Z
LAST-MODIFIED:20250722T122859Z
UID:392-1758463200-1758474000@xn--krwa-kraftshof-5hb.de
SUMMARY:Kraftshofer Kärwa Umzug 2025
DESCRIPTION:Mit Spannung und unglaublich viel Vorfreude warten wir auf unseren Umzug. Nach dem wir im vergangenen Jahr unglaublich aufgetrumpft und selbst die Weisen aus dem Morgenland mit ihren Kamelen uns besucht haben\, fragen wir uns alle was denn da noch kommen kann. \nSo viel sei gesagt: es wird einfach großartig! \nSeid gespannt und kommt zu uns \nEindrücke der letzten Umzüge findet ihr in unserer Galerie \n  \n  \n 
URL:https://xn--krwa-kraftshof-5hb.de/event/kraftshofer-kaerwa-umzug-2025/
LOCATION:Kärwa Platz Kraftshof\, Spielplatz Schiestlstr.\, Kraftshof\, Bayern\, 90427\, Deutschland
END:VEVENT
END:VCALENDAR