BEGIN:VCALENDAR
VERSION:2.0
PRODID:-//K&auml;rwa Kraftshof - ECPv6.15.20//NONSGML v1.0//EN
CALSCALE:GREGORIAN
METHOD:PUBLISH
X-WR-CALNAME:K&auml;rwa Kraftshof
X-ORIGINAL-URL:https://xn--krwa-kraftshof-5hb.de
X-WR-CALDESC:Veranstaltungen für K&auml;rwa Kraftshof
REFRESH-INTERVAL;VALUE=DURATION:PT1H
X-Robots-Tag:noindex
X-PUBLISHED-TTL:PT1H
BEGIN:VTIMEZONE
TZID:Europe/Helsinki
BEGIN:DAYLIGHT
TZOFFSETFROM:+0200
TZOFFSETTO:+0300
TZNAME:EEST
DTSTART:20230326T010000
END:DAYLIGHT
BEGIN:STANDARD
TZOFFSETFROM:+0300
TZOFFSETTO:+0200
TZNAME:EET
DTSTART:20231029T010000
END:STANDARD
BEGIN:DAYLIGHT
TZOFFSETFROM:+0200
TZOFFSETTO:+0300
TZNAME:EEST
DTSTART:20240331T010000
END:DAYLIGHT
BEGIN:STANDARD
TZOFFSETFROM:+0300
TZOFFSETTO:+0200
TZNAME:EET
DTSTART:20241027T010000
END:STANDARD
BEGIN:DAYLIGHT
TZOFFSETFROM:+0200
TZOFFSETTO:+0300
TZNAME:EEST
DTSTART:20250330T010000
END:DAYLIGHT
BEGIN:STANDARD
TZOFFSETFROM:+0300
TZOFFSETTO:+0200
TZNAME:EET
DTSTART:20251026T010000
END:STANDARD
END:VTIMEZONE
BEGIN:VTIMEZONE
TZID:UTC
BEGIN:STANDARD
TZOFFSETFROM:+0000
TZOFFSETTO:+0000
TZNAME:UTC
DTSTART:20230101T000000
END:STANDARD
END:VTIMEZONE
BEGIN:VEVENT
DTSTART;TZID=Europe/Helsinki:20240913T190000
DTEND;TZID=Europe/Helsinki:20240914T020000
DTSTAMP:20260424T005210
CREATED:20240815T181349Z
LAST-MODIFIED:20240815T181321Z
UID:82-1726254000-1726279200@xn--krwa-kraftshof-5hb.de
SUMMARY:Die erste Kraftshofer Kärwa Freitag "Table Dance Night"
DESCRIPTION:Bieranstich durch örtliche Prominenz\, Festbetrieb\, und der erste Kraftshofer Table Dance Wettkampf. \nWir freuen uns schon jetzt auf die Bilder!!! \nMusik\nEs spielt der  „Weisendorfer Soundexpress„
URL:https://xn--krwa-kraftshof-5hb.de/event/kraftshofer-kaerwa-freitag-nacht/
LOCATION:Kärwa Platz Kraftshof\, Spielplatz Schiestlstr.\, Kraftshof\, Bayern\, 90427\, Deutschland
END:VEVENT
BEGIN:VEVENT
DTSTART;TZID=Europe/Helsinki:20240914T160000
DTEND;TZID=Europe/Helsinki:20240914T183000
DTSTAMP:20260424T005210
CREATED:20240815T175618Z
LAST-MODIFIED:20240815T175544Z
UID:76-1726329600-1726338600@xn--krwa-kraftshof-5hb.de
SUMMARY:Einholen und Aufstellen des Kraftshofer Kirchweihbaumes 2024
DESCRIPTION:Wir stellen wieder unserem Baum auf. Nach dem die Kärwaburschen unsere Bäume aus dem Forst eingeholt haben\, wird dieses Jahr hoffentlich alles gut gehen. Einmal spektakulär den Baum mit einem Bagger aufzustellen war sicherlich spannend und hat natürlich auch für viel Spott gesorgt… Diesmal soll aber wieder alles ganz traditionell mit unseren neuen Stangen passieren. Seid da bei\, wenn mit purer Muskelkraft der Baum in die senkrechte Position gebracht wird. \nein weiteres Highlight\nWir wollen unseren kleinen Kärwaburschen auch wieder den Stolz auf den eigenen Baum gönnen. Aber damit nicht genug. Auch sie haben die Aufgabe ihren Baum unter fachmännischer Anleitung alleine aufzustemmen und freuen sich riesig über Eure Unterstützung am Festplatz.
URL:https://xn--krwa-kraftshof-5hb.de/event/kaerwa-baum-aufstellung-2024/
LOCATION:Kärwa Platz Kraftshof\, Spielplatz Schiestlstr.\, Kraftshof\, Bayern\, 90427\, Deutschland
END:VEVENT
BEGIN:VEVENT
DTSTART;TZID=Europe/Helsinki:20240914T183000
DTEND;TZID=Europe/Helsinki:20240915T030000
DTSTAMP:20260424T005210
CREATED:20240815T180908Z
LAST-MODIFIED:20240815T180757Z
UID:78-1726338600-1726369200@xn--krwa-kraftshof-5hb.de
SUMMARY:Erster Kraftshofer Kärwa Mädels Abend
DESCRIPTION:Lasst euch nicht irritieren. Auch ihr Männer seid willkommen. Den diesjährigen Samstag-Abend haben die Frauen organisiert und überraschen alle Besucherinnen mit Sektempfang\, Cocktailgutschein und mehr. \nLasst euch überraschen und feiert mit uns. \nMusik\nDie Musik kommt von den „Bressdli“ \n\nDIE BRESSDLI stellen sich vor: \n\n\nHaltet die Zöpfe fest und zieht die Bäuche ein:  \nRockige Brass-Sounds oder bezaubernde Polkaklänge\, brettharte Bläsersätze oder verwegene Schlager – es gibt keine Grenzen
URL:https://xn--krwa-kraftshof-5hb.de/event/erste-kraftshofer-kaerwa-ladies-night/
LOCATION:Kärwa Platz Kraftshof\, Spielplatz Schiestlstr.\, Kraftshof\, Bayern\, 90427\, Deutschland
END:VEVENT
BEGIN:VEVENT
DTSTART;TZID=Europe/Helsinki:20240915T094500
DTEND;TZID=Europe/Helsinki:20240915T104500
DTSTAMP:20260424T005210
CREATED:20240815T202227Z
LAST-MODIFIED:20240815T202129Z
UID:107-1726393500-1726397100@xn--krwa-kraftshof-5hb.de
SUMMARY:Festgottesdienst in der St. Georgs Kirche zu Kraftshof
DESCRIPTION:Festgottesdienst in der St. Georgs Kirche mit Einzug der kleinen und großen Kirchweihburschen\, anschließend gibt es\nMittagstisch im Festzelt \nKirche St. Georg Kraftshof
URL:https://xn--krwa-kraftshof-5hb.de/event/festgottesdienst-in-der-st-georgs-kirche-zu-kraftshof/
LOCATION:Kärwa Platz Kraftshof\, Spielplatz Schiestlstr.\, Kraftshof\, Bayern\, 90427\, Deutschland
END:VEVENT
BEGIN:VEVENT
DTSTART;TZID=Europe/Helsinki:20240915T140000
DTEND;TZID=Europe/Helsinki:20240915T163000
DTSTAMP:20260424T005210
CREATED:20240815T174023Z
LAST-MODIFIED:20240815T173947Z
UID:70-1726408800-1726417800@xn--krwa-kraftshof-5hb.de
SUMMARY:Kraftshofer Kärwa Umzug 2024
DESCRIPTION:Mit Spannung und unglaublich viel Vorfreude warten wir auf unseren Umzug. Nach dem wir im vergangenen Jahr unglaublich aufgetrumpft und selbst die Weisen aus dem Morgenland mit ihren Kamelen uns besucht haben\, fragen wir uns alle was denn da noch kommen kann. \nSo viel sei gesagt: es wird einfach großartig! \nSeid gespannt und kommt zu uns
URL:https://xn--krwa-kraftshof-5hb.de/event/kraftshofer-kaerwa-umzug-2024/
LOCATION:Kärwa Platz Kraftshof\, Spielplatz Schiestlstr.\, Kraftshof\, Bayern\, 90427\, Deutschland
END:VEVENT
BEGIN:VEVENT
DTSTART;TZID=Europe/Helsinki:20240915T173000
DTEND;TZID=Europe/Helsinki:20240915T230000
DTSTAMP:20260424T005210
CREATED:20240815T174653Z
LAST-MODIFIED:20240815T174648Z
UID:74-1726421400-1726441200@xn--krwa-kraftshof-5hb.de
SUMMARY:Ausklang des Kärwa-Umzugs im Zelt
DESCRIPTION:die Arbeit ist getan. Der Umzug ist hoffentlich bei bestem Wetter erfolgreich vollbracht und wir lassen den Abend im Zelt gemeinsam ausklingen. \nMusik\nEs spielt „Franken-Mix“
URL:https://xn--krwa-kraftshof-5hb.de/event/ausklang-des-kaerwa-umzugs-im-zelt/
LOCATION:Kärwa Platz Kraftshof\, Spielplatz Schiestlstr.\, Kraftshof\, Bayern\, 90427\, Deutschland
END:VEVENT
BEGIN:VEVENT
DTSTART;TZID=UTC:20240916T103000
DTEND;TZID=UTC:20240916T140000
DTSTAMP:20260424T005210
CREATED:20240814T132803Z
LAST-MODIFIED:20240818T124212Z
UID:57-1726482600-1726495200@xn--krwa-kraftshof-5hb.de
SUMMARY:Kärwa Frühschoppen
DESCRIPTION:unser alljährlicher Kärwa Frühschoppen in neuem Glanz. \nWir möchten unsere Unternehmen im Ort näher zusammenbringen und starten daher die erste Kraftshofer Firmenolympiade 2024. \nGewinne mit deinem Team ein Weißwurstfrühstück für dein Team!\nEin Staffellauf über drei Etappen für euch zum Ziel. Die einzige Teilnahmebedingung ist: ihr Unternehmen oder sie als Inhaber*in / Geschäftsführende leben in Kraftshof! \nEuer Staffelteam sollte aus 4 Mitarbeitenden bestehen\, die die lockeren Aufgaben bewältigen werden. Eine Altersbeschränkung gibt es hier nicht. \nGroße Verlosung\nwie jedes Jahr am Montag\, so auch in diesem Jahr! Nur haben wir die Anzahl um das mehr als fünffache erhöht. Seid gespannt insbesondere auf die drei Hauptgewinne! Lose gibt es ausschließlich nur im Rahmen des Frühschoppens. Die Verlosung der Hauptgewinne erfolgt unmittelbar nach \n  \nmeldet Euch jetzt an \n  \nMusik\nEs spielt „Franken-Mix“
URL:https://xn--krwa-kraftshof-5hb.de/event/kaerwa-fruehshoppen/
LOCATION:Kärwa Platz Kraftshof\, Spielplatz Schiestlstr.\, Kraftshof\, Bayern\, 90427\, Deutschland
END:VEVENT
BEGIN:VEVENT
DTSTART;TZID=Europe/Helsinki:20240916T160000
DTEND;TZID=Europe/Helsinki:20240916T190000
DTSTAMP:20260424T005210
CREATED:20240815T174345Z
LAST-MODIFIED:20240815T174340Z
UID:72-1726502400-1726513200@xn--krwa-kraftshof-5hb.de
SUMMARY:Kraftshofer Kärwa Familiennachmittag 2024
DESCRIPTION:Kärwa war und ist schon immer für die Familie. Unser Wirt und unsere Aussteller unterstützen dies durch besondere Angebote auf dem Kärwa-Platz. \n 
URL:https://xn--krwa-kraftshof-5hb.de/event/kraftshofer-kaerwa-familiennachmittag-2024/
LOCATION:Kärwa Platz Kraftshof\, Spielplatz Schiestlstr.\, Kraftshof\, Bayern\, 90427\, Deutschland
END:VEVENT
BEGIN:VEVENT
DTSTART;TZID=Europe/Helsinki:20240916T170000
DTEND;TZID=Europe/Helsinki:20240916T223000
DTSTAMP:20260424T005210
CREATED:20240815T173227Z
LAST-MODIFIED:20240815T173227Z
UID:66-1726506000-1726525800@xn--krwa-kraftshof-5hb.de
SUMMARY:Betzen austanzen 2024
DESCRIPTION:Der Höhepunkt unserer Kärwa. Die kleinen und großen Kärwburschen tanzen wie jedes Jahr den Betzen aus. \nDen beiden  Gewinner winkt dieses Jahr etwas besonderes. Es wird nach der Kärwa wieder ein traditionelles Betzen essen geben. Daher ziehen wir nach dem Ausstanzen nicht mehr zum jeweiligen Gewinner\, sondern wieder zurück ins Zelt und zelebrieren den Gewinn. \nMusik\nEs spielt „Franken-Mix“
URL:https://xn--krwa-kraftshof-5hb.de/event/betzen-austanzen-2024/
LOCATION:Kärwa Platz Kraftshof\, Spielplatz Schiestlstr.\, Kraftshof\, Bayern\, 90427\, Deutschland
END:VEVENT
BEGIN:VEVENT
DTSTART;TZID=Europe/Helsinki:20240916T223000
DTEND;TZID=Europe/Helsinki:20240916T233000
DTSTAMP:20260424T005210
CREATED:20240815T173537Z
LAST-MODIFIED:20240815T173537Z
UID:68-1726525800-1726529400@xn--krwa-kraftshof-5hb.de
SUMMARY:Kärwa Beerdigung 2024
DESCRIPTION:Das Ende ist nah. Die Beerdigung zeigt uns wieder einmal\, was alles auf der diesjährigen Kraftshofer Kirchweih alles passiert ist. Im Kleinen wie im Großen. Ob der Stangenbruch\, oder die Liebesgeschichte. Es kommt hier alles auf den Tisch. \n  \nMusik\nEs spielt „Franken-Mix“ \n 
URL:https://xn--krwa-kraftshof-5hb.de/event/kaerwa-beerdigung-2024/
LOCATION:Kärwa Platz Kraftshof\, Spielplatz Schiestlstr.\, Kraftshof\, Bayern\, 90427\, Deutschland
END:VEVENT
END:VCALENDAR