BEGIN:VCALENDAR
VERSION:2.0
PRODID:-//K&auml;rwa Kraftshof - ECPv6.15.20//NONSGML v1.0//EN
CALSCALE:GREGORIAN
METHOD:PUBLISH
X-WR-CALNAME:K&auml;rwa Kraftshof
X-ORIGINAL-URL:https://xn--krwa-kraftshof-5hb.de
X-WR-CALDESC:Veranstaltungen für K&auml;rwa Kraftshof
REFRESH-INTERVAL;VALUE=DURATION:PT1H
X-Robots-Tag:noindex
X-PUBLISHED-TTL:PT1H
BEGIN:VTIMEZONE
TZID:Europe/Helsinki
BEGIN:DAYLIGHT
TZOFFSETFROM:+0200
TZOFFSETTO:+0300
TZNAME:EEST
DTSTART:20230326T010000
END:DAYLIGHT
BEGIN:STANDARD
TZOFFSETFROM:+0300
TZOFFSETTO:+0200
TZNAME:EET
DTSTART:20231029T010000
END:STANDARD
BEGIN:DAYLIGHT
TZOFFSETFROM:+0200
TZOFFSETTO:+0300
TZNAME:EEST
DTSTART:20240331T010000
END:DAYLIGHT
BEGIN:STANDARD
TZOFFSETFROM:+0300
TZOFFSETTO:+0200
TZNAME:EET
DTSTART:20241027T010000
END:STANDARD
BEGIN:DAYLIGHT
TZOFFSETFROM:+0200
TZOFFSETTO:+0300
TZNAME:EEST
DTSTART:20250330T010000
END:DAYLIGHT
BEGIN:STANDARD
TZOFFSETFROM:+0300
TZOFFSETTO:+0200
TZNAME:EET
DTSTART:20251026T010000
END:STANDARD
END:VTIMEZONE
BEGIN:VEVENT
DTSTART;TZID=Europe/Helsinki:20241214T150000
DTEND;TZID=Europe/Helsinki:20241214T210000
DTSTAMP:20260423T202448
CREATED:20241210T135128Z
LAST-MODIFIED:20241210T135128Z
UID:297-1734188400-1734210000@xn--krwa-kraftshof-5hb.de
SUMMARY:Kraftshofer Adventszauber in der Wehranlage der St. Georgskirche Kraftshof
DESCRIPTION:Herzliche Einladung zu: \n\nKAFFEE & KUCHEN\nKUNSTHANDWERK & LIVE-MUSIK\nADVENTLICHE ESSENS- & GETRÄNKESTÄNDE\nKINDERBASTELAKTION\nBESUCH DES KNOBLAUCHSLÄNDER CHRISTKIND\n\n  \nund das alle in der wundervollen Wehranlage unserer Kirche in Kraftshof. \nEinladung zum Kraftshofer Adventszauber am 14 Dezember 2024 ab 15 Uhr\n  \n 
URL:https://xn--krwa-kraftshof-5hb.de/event/kraftshofer-adventszauber-in-der-wehranlage-der-st-georgskirche-kraftshof/
LOCATION:Bayern
END:VEVENT
END:VCALENDAR